BEGIN:VCALENDAR
VERSION:2.0
PRODID:-//Bodensee • Erleben • Entdecken - ECPv6.15.20//NONSGML v1.0//EN
CALSCALE:GREGORIAN
METHOD:PUBLISH
X-ORIGINAL-URL:https://bodenseeinfos.com
X-WR-CALDESC:Veranstaltungen für Bodensee • Erleben • Entdecken
REFRESH-INTERVAL;VALUE=DURATION:PT1H
X-Robots-Tag:noindex
X-PUBLISHED-TTL:PT1H
BEGIN:VTIMEZONE
TZID:Europe/Berlin
BEGIN:DAYLIGHT
TZOFFSETFROM:+0100
TZOFFSETTO:+0200
TZNAME:CEST
DTSTART:20250330T010000
END:DAYLIGHT
BEGIN:STANDARD
TZOFFSETFROM:+0200
TZOFFSETTO:+0100
TZNAME:CET
DTSTART:20251026T010000
END:STANDARD
BEGIN:DAYLIGHT
TZOFFSETFROM:+0100
TZOFFSETTO:+0200
TZNAME:CEST
DTSTART:20260329T010000
END:DAYLIGHT
BEGIN:STANDARD
TZOFFSETFROM:+0200
TZOFFSETTO:+0100
TZNAME:CET
DTSTART:20261025T010000
END:STANDARD
BEGIN:DAYLIGHT
TZOFFSETFROM:+0100
TZOFFSETTO:+0200
TZNAME:CEST
DTSTART:20270328T010000
END:DAYLIGHT
BEGIN:STANDARD
TZOFFSETFROM:+0200
TZOFFSETTO:+0100
TZNAME:CET
DTSTART:20271031T010000
END:STANDARD
END:VTIMEZONE
BEGIN:VEVENT
DTSTART;TZID=Europe/Berlin:20260404T193000
DTEND;TZID=Europe/Berlin:20260404T220000
DTSTAMP:20260425T133746
CREATED:20260219T095836Z
LAST-MODIFIED:20260219T095836Z
UID:10000022-1775331000-1775340000@bodenseeinfos.com
SUMMARY:3. Symphoniekonzert Bodensee Philharmonie Konstanz   Samstag 18.04.2026 um 19:30 Uhr
DESCRIPTION:3. Symphoniekonzert\nBodensee Philharmonie Konstanz\nSamstag 18.04.2026 um 19:30 Uhr \nStadthalle\nHohgarten 4\n78224 Singen \nTickets ab 20\,00 € * KURZINFOS UND VERFÜGBARKEIT\nErmäßigung verfügbar \nSolistinnen: Astrig und Chouchane Siranossian\,\nVioline und Violoncello\nDirigent: Gabriel Venzago\, Leitung\nBodensee Philharmonie\, Konstanz \nHans Werner Henze (1926-2012)\nHochzeitsmusik aus „Undine“\nJohannes Brahms (1833-1897)\nDoppelkonzert a-Moll für Violine\, Violoncello\nund Orchester op. 102\nRobert Schumann (1810-1856)\nSinfonie Nr. 1 op. 38 „Frühlingssinfonie“ \nFOTO COPYRIGHT Alberto Venzago
URL:https://bodenseeinfos.com/event/3-symphoniekonzert-bodensee-philharmonie-konstanz-samstag-18-04-2026-um-1930-uhr/
LOCATION:Stadthalle Hohgarten 4 78224 Singen\, Hohgarten 4\, Singen\, 78224\, Germany
CATEGORIES:Konzerte,Kunst und Kultur
ATTACH;FMTTYPE=image/jpeg:https://bodenseeinfos.com/wp-content/uploads/2026/02/orchesterfoto.jpg
END:VEVENT
END:VCALENDAR