BEGIN:VCALENDAR
VERSION:2.0
PRODID:-//Bodensee • Erleben • Entdecken - ECPv6.15.20//NONSGML v1.0//EN
CALSCALE:GREGORIAN
METHOD:PUBLISH
X-ORIGINAL-URL:https://bodenseeinfos.com
X-WR-CALDESC:Veranstaltungen für Bodensee • Erleben • Entdecken
REFRESH-INTERVAL;VALUE=DURATION:PT1H
X-Robots-Tag:noindex
X-PUBLISHED-TTL:PT1H
BEGIN:VTIMEZONE
TZID:Europe/Berlin
BEGIN:DAYLIGHT
TZOFFSETFROM:+0100
TZOFFSETTO:+0200
TZNAME:CEST
DTSTART:20250330T010000
END:DAYLIGHT
BEGIN:STANDARD
TZOFFSETFROM:+0200
TZOFFSETTO:+0100
TZNAME:CET
DTSTART:20251026T010000
END:STANDARD
BEGIN:DAYLIGHT
TZOFFSETFROM:+0100
TZOFFSETTO:+0200
TZNAME:CEST
DTSTART:20260329T010000
END:DAYLIGHT
BEGIN:STANDARD
TZOFFSETFROM:+0200
TZOFFSETTO:+0100
TZNAME:CET
DTSTART:20261025T010000
END:STANDARD
BEGIN:DAYLIGHT
TZOFFSETFROM:+0100
TZOFFSETTO:+0200
TZNAME:CEST
DTSTART:20270328T010000
END:DAYLIGHT
BEGIN:STANDARD
TZOFFSETFROM:+0200
TZOFFSETTO:+0100
TZNAME:CET
DTSTART:20271031T010000
END:STANDARD
END:VTIMEZONE
BEGIN:VEVENT
DTSTART;TZID=Europe/Berlin:20260502T193000
DTEND;TZID=Europe/Berlin:20260502T220000
DTSTAMP:20260419T231743
CREATED:20260123T123859Z
LAST-MODIFIED:20260124T060300Z
UID:10000020-1777750200-1777759200@bodenseeinfos.com
SUMMARY:Bodenseefestival Freiburger Barockorchester
DESCRIPTION:Nicolas Altstaedt & Freiburger Barockorchester  Foto © Barco Borggreve\nEröffnungskonzert Eintritt: 75 / 63 / 49 / 33 € (u. erm.) TICKET KAUFEN
URL:https://bodenseeinfos.com/event/bodenseefestival-freiburger-barockorchester/
LOCATION:Graf-Zeppelin-Haus\, 88045 Friedrichshafen\, Graf-Zeppelin-Haus\, Friedrichshafen\, Germany
CATEGORIES:Festivals
ATTACH;FMTTYPE=image/jpeg:https://bodenseeinfos.com/wp-content/uploads/2026/01/nicolas-altstaedt.jpg
END:VEVENT
END:VCALENDAR